BEGIN:VCALENDAR
VERSION:2.0
PRODID:-//hacksw/handcal//NONSGML v1.0//EN
BEGIN:VEVENT
SUMMARY:Point Cafe AUSSONNE
UID:70d517e5-fa8e-4cd2-b81f-0bc4208868b9
DTSTART:20260503T060000Z
DTEND:20260503T220000Z
LOCATION:Localisation   
CATEGORIES:Sportif
STATUS:
DESCRIPTION:<p><b>Halle derriere la Mairie</b><br />
 Place de la
 Mairie<br />
 Aussonne</p>
 
 <p>Coordonnees GPS :<br />
 43° 41' 01"N
 1° 19' 02"E</p>
 
 <h2><em><strong> </strong></em><span
 style="font-size:14px;"><a
 href="https://www.cyclotourisme-31.com/uploaded/Lieux_accueil/D%C3%A9parts_Rando/aussonne-2026.pdf"
 target="_blank"><span style="color:#2980b9;"><em><strong>Lieu de
 rendez-vous</strong></em></span></a></span></h2>
 
 <h2><strong><span
 style="color:#e74c3c;">Circuit du Point Cafe 86 Km et 822 m
 D+</span></strong><iframe height="650" loading="lazy"
 src="https://www.openrunner.com/embed.html?code=4d742b624e376c757a624864644776507570465549684f36325246475a326943684c334171666a313042513d3a3a8c586c81c673fab6192e3a1875b5ab16&lang=fr&unit=metric"
 style="border: none;" width="100%"></iframe></h2>
URL;VALUE=URI:https://www.ccv-castelmaurou.com/evenements/2026/05/03/point-cafe-aussonne-2396124
END:VEVENT
END:VCALENDAR
