BEGIN:VCALENDAR
VERSION:2.0
PRODID:-//hacksw/handcal//NONSGML v1.0//EN
BEGIN:VEVENT
SUMMARY:VA StAndre-ForgeNeuve-Lavaur-VA (84-75-62-VA-750-600-500)
UID:99f5b25a-f790-4921-afdb-039b2291254b
DTSTART:20260427T220000Z
DTEND:20260428T220000Z
LOCATION:Localisation   
CATEGORIES:Entrainement
STATUS:
URL;VALUE=URI:https://www.ccv-castelmaurou.com/evenements/2026/04/28/va-standre-forgeneuve-lavaur-va-84-75-62-va-750-600-500-2435361
END:VEVENT
END:VCALENDAR
