BEGIN:VCALENDAR
VERSION:2.0
PRODID:-//hacksw/handcal//NONSGML v1.0//EN
BEGIN:VEVENT
SUMMARY:Sortie weekend S17
UID:0a5882a8-9327-4acd-a3c8-08159a30d82b
DTSTART:20260424T220000Z
DTEND:20260426T220000Z
LOCATION:Localisation   
CATEGORIES:Sportif
STATUS:
DESCRIPTION:<p><strong>Varennes-47-VNO-N95-780</strong></p>
 
 <p><iframe
 width="100%" height="650" loading="lazy"
 src="https://www.openrunner.com/embed.html?code=484c394a4a4158324a6972726f6d4f7039573138424d64304c4f6f6f6c6a35466163465970556a496537733d3a3ada4afa59be3971ddee75d6a121f1dd2b&lang=fr&unit=metric"
 style="border: none;"></iframe></p>
 
 <p><span
 style="color:#c0392b;"><strong>Varennes-47-VNO-R89-690</strong></span></p>
 
 <p><iframe
 width="100%" height="650" loading="lazy"
 src="https://www.openrunner.com/embed.html?code=37526262326d526873323776594177573956775243536d746767747270742f38505246676676564e51544d3d3a3a75bc9051a88dd4979c535a05a36ed31e&lang=fr&unit=metric"
 style="border: none;"></iframe></p>
 
 <p><span
 style="color:#2980b9;"><strong>Varennes-47-VNO-B80-600</strong></span></p>
 
 <p><iframe
 width="100%" height="650" loading="lazy"
 src="https://www.openrunner.com/embed.html?code=767754502f514a79594f306c312b4376676e3952683277485a304b6f2b6768614b2b4c534b2b35425736453d3a3af5e35caa332e3f98c656b06524508b6c&lang=fr&unit=metric"
 style="border: none;"></iframe></p>
 
 <p> </p>
URL;VALUE=URI:https://www.ccv-castelmaurou.com/evenements/2026/04/25/sortie-weekend-s17-2444573
END:VEVENT
END:VCALENDAR
