BEGIN:VCALENDAR
VERSION:2.0
PRODID:-//hacksw/handcal//NONSGML v1.0//EN
BEGIN:VEVENT
SUMMARY:VA LabastideBeauvoir-Caragoude-Maureville(84-75-68-VA-800-700-650)
UID:9d0b7a9b-11f8-45e7-8fd2-1517d0da7448
DTSTART:20260422T220000Z
DTEND:20260423T220000Z
LOCATION:Localisation   
CATEGORIES:Entrainement
STATUS:
URL;VALUE=URI:https://www.ccv-castelmaurou.com/evenements/2026/04/23/va-labastidebeauvoir-caragoude-maureville84-75-68-va-800-700-650-2435358
END:VEVENT
END:VCALENDAR
