BEGIN:VCALENDAR
VERSION:2.0
PRODID:-//hacksw/handcal//NONSGML v1.0//EN
BEGIN:VEVENT
SUMMARY:VNO LabastideStPierre-Fabas-Fronton (85-75-68-VNO-700-600-500)
UID:bccff18b-cb5b-408a-8548-1918c48f7382
DTSTART:20260420T220000Z
DTEND:20260421T220000Z
LOCATION:Localisation   
CATEGORIES:Entrainement
STATUS:
URL;VALUE=URI:https://www.ccv-castelmaurou.com/evenements/2026/04/21/vno-labastidestpierre-fabas-fronton-85-75-68-vno-700-600-500-2435420
END:VEVENT
END:VCALENDAR
