BEGIN:VCALENDAR
VERSION:2.0
PRODID:-//hacksw/handcal//NONSGML v1.0//EN
BEGIN:VEVENT
SUMMARY:VNO Fabas-Canals-StRustice (81-74-67-VNO-500-450-400)
UID:13dbefbc-9124-47c3-97a4-db8ff4738bba
DTSTART:20260402T113000Z
DTEND:20260402T220000Z
LOCATION:Localisation   
CATEGORIES:Entrainement
STATUS:
DESCRIPTION:<p><span style="color:#c0392b;"><strong>FABAS
 81-440</strong></span></p>
 
 <p><iframe width="100%" height="650"
 loading="lazy"
 src="https://www.openrunner.com/embed.html?code=35496234355976705754453334426d625138347453765a6c70416766597a75657333545a525a486b716d6f3d3a3a83599f54134df382e5db93222c56b2b9&lang=fr&unit=metric"
 style="border: none;"></iframe></p>
 
 <p><span
 style="color:#2980b9;"><strong>CANALS
 74-400</strong></span></p>
 
 <p><iframe width="100%" height="650"
 loading="lazy"
 src="https://www.openrunner.com/embed.html?code=65635344636265666f684243756e57744a44773037574749487730594d55664b71624d4f455833545737593d3a3a7c52bea13fe541365f7b4d69b9bf972c&lang=fr&unit=metric"
 style="border: none;"></iframe></p>
 
 <p><span
 style="color:#27ae60;"><strong>STRUSTICE
 67-430</strong></span></p>
 
 <p><iframe width="100%" height="650"
 loading="lazy"
 src="https://www.openrunner.com/embed.html?code=314f726962634947476d776d517575707551345a70684b423356342f4b45596d783044354c316a695459673d3a3ab9d2bb9115d9093340ec41e57fa46a24&lang=fr&unit=metric"
 style="border: none;"></iframe></p>
URL;VALUE=URI:https://www.ccv-castelmaurou.com/evenements/2026/04/02/vno-fabas-canals-strustice-81-74-67-vno-500-450-400-2435387
END:VEVENT
END:VCALENDAR
