BEGIN:VCALENDAR
VERSION:2.0
PRODID:-//hacksw/handcal//NONSGML v1.0//EN
BEGIN:VEVENT
SUMMARY:VA AuriacSV-Albiac-Caraman(84-74-65-VA-800-650-550)
UID:2def1c3c-a628-483c-b11a-f9f320296751
DTSTART:20260402T113000Z
DTEND:20260402T220000Z
LOCATION:Localisation   
CATEGORIES:Entrainement
STATUS:
DESCRIPTION:<p><span style="color:#c0392b;"><strong>AURIACSV
 84-730</strong></span></p>
 
 <p><iframe width="100%" height="650"
 loading="lazy"
 src="https://www.openrunner.com/embed.html?code=534e6b4e432f6f5072694b6d59354f4c75494976457843777339504d59775836515a464d79577875524e733d3a3a4102ffa93d4aea368ce5e2f4917cb123&lang=fr&unit=metric"
 style="border: none;"></iframe></p>
 
 <p><span
 style="color:#2980b9;"><strong>ALBIAC
 74-650</strong></span></p>
 
 <p><iframe width="100%" height="650"
 loading="lazy"
 src="https://www.openrunner.com/embed.html?code=4a76426974514350585a2b512f65724b6b58452b70797466633278566848617453617144367965574234493d3a3aed1ee502ba336f88808645189b699ca0&lang=fr&unit=metric"
 style="border: none;"></iframe></p>
 
 <p><strong><span
 style="color:#27ae60;">CARAMAN 65-480</span></strong></p>
 
 <p><iframe
 width="100%" height="650" loading="lazy"
 src="https://www.openrunner.com/embed.html?code=585357383844757a466e59576b4c7058314464375a6b534d5a6a6b67366473685975446b714d675a7342383d3a3a2c122af5cd2fceb02e5a71e4fbb588b3&lang=fr&unit=metric"
 style="border: none;"></iframe></p>
URL;VALUE=URI:https://www.ccv-castelmaurou.com/evenements/2026/04/02/va-auriacsv-albiac-caraman84-74-65-va-800-650-550-2435704
END:VEVENT
END:VCALENDAR
