BEGIN:VCALENDAR
VERSION:2.0
PRODID:-//hacksw/handcal//NONSGML v1.0//EN
BEGIN:VEVENT
SUMMARY:Sortie Interne CCV L'ISLE-SUR-TARN (C)
UID:29ee360a-3a22-4a23-8e09-1a44099d363d
DTSTART:20260320T230000Z
DTEND:20260321T230000Z
LOCATION:Localisation   l'isle sur tarn
CATEGORIES:Sportif
STATUS:
DESCRIPTION:<p><span style="color:#8e44ad;"><strong>Depart velo a
 13h30 de L'ISLE-SUR-TARN</strong></span></p>
 
 <p><u>RDV sur le
 parking du lac de Bellevue</u>. Sortie 8 sur l'A68. Le parking est
 situe avenue du General Charles de Gaulle a cote de
 l'Intermarche.</p>
 
 <p><strong>3 circuits proposes
 :</strong></p>
 
 <h2><u><span style="color:#e74c3c;">Circuit Rouge
 86km et 1100m de denivele :</span></u></h2>
 
 <p><iframe height="650"
 loading="lazy"
 src="https://www.openrunner.com/embed.html?code=4e31426958637764456b4f305a5a654a686d4962515a414452535a537546783939706c72394f6c4b5a44343d3a3a3be4dabaabed4df2b86b0b298da0ad6e&lang=fr&unit=metric"
 style="border: none;"
 width="100%"></iframe></p>
 
 <p> </p>
 
 <h2><u><span
 style="color:#2980b9;">Circuit Bleu 64km et 620m de denivele
 :</span></u></h2>
 
 <p><span style="color:#2980b9;"><iframe
 height="650" loading="lazy"
 src="https://www.openrunner.com/embed.html?code=3746784b69334963334c5852795941325850303649376b574e6948724961366e37496461334b43476432733d3a3ab7e4c2c301cf1ca7172605ba802b4984&lang=fr&unit=metric"
 style="border: none;"
 width="100%"></iframe></span></p>
 
 <p> </p>
 
 <h2><span
 style="color:#27ae60;"><u>Circuit Vert 42km et 500m de denivele
 :</u></span></h2>
 
 <p><span style="color:#27ae60;"><iframe
 height="650" loading="lazy"
 src="https://www.openrunner.com/embed.html?code=72324a5655546d485377446f2f707132744666525a4c515a6a5a6f3962545175735161375a6d7864574e4d3d3a3a23e1051236a44c9846fb1957a4a88e0c&lang=fr&unit=metric"
 style="border: none;"
 width="100%"></iframe></span></p>
 
 <p> </p>
 
 <p> </p>
 
 <p> </p>
URL;VALUE=URI:https://www.ccv-castelmaurou.com/evenements/2026/03/21/sortie-interne-ccv-lisle-sur-tarn-c-2396114
END:VEVENT
END:VCALENDAR
